BEGIN:VCALENDAR
VERSION:2.0
PRODID:-//Associazione Graffiti
CALSCALE:GREGORIAN
METHOD:PUBLISH
X-WR-CALNAME:Associazione Graffiti
X-ORIGINAL-URL:https://graffitiscuola.it/event/affitto-sala-espositiva/
X-WR-CALDESC:Affitto Sala Espositiva
BEGIN:VEVENT
DTSTART:
DTEND:
SUMMARY:Affitto Sala Espositiva
DESCRIPTION:AFFITTO SALA ESPOSITIVA
PER MOSTRE PERSONALI O COLLETTIVE
LOCATION:Via Latina, 515
END:VEVENT
END:VCALENDAR
