BEGIN:VCALENDAR
VERSION:2.0
PRODID:-//Associazione Graffiti
CALSCALE:GREGORIAN
METHOD:PUBLISH
X-WR-CALNAME:Associazione Graffiti
X-ORIGINAL-URL:https://graffitiscuola.it/event/photoediting/
X-WR-CALDESC:Photoediting / Lettura Portfolio
BEGIN:VEVENT
DTSTART:
DTEND:
SUMMARY:Photoediting / Lettura Portfolio
DESCRIPTION:PHOTOEDITING A CURA DEL DIRETTORE
GIANNI PINNIZZOTTO
LOCATION:Via Latina, 515
END:VEVENT
END:VCALENDAR
