BEGIN:VCALENDAR
VERSION:2.0
PRODID:-//Associazione Graffiti
CALSCALE:GREGORIAN
METHOD:PUBLISH
X-WR-CALNAME:Associazione Graffiti
X-ORIGINAL-URL:https://graffitiscuola.it/event/assistenza-informatica/
X-WR-CALDESC:Assistenza informatica
BEGIN:VEVENT
DTSTART:
DTEND:
SUMMARY:Assistenza informatica
DESCRIPTION:ASSISTENZA INFORMATICA
LOCATION:Via Latina, 515
END:VEVENT
END:VCALENDAR
