BEGIN:VCALENDAR
VERSION:2.0
PRODID:-//Associazione Graffiti
CALSCALE:GREGORIAN
METHOD:PUBLISH
X-WR-CALNAME:Associazione Graffiti
X-ORIGINAL-URL:https://graffitiscuola.it/event/stampe/
X-WR-CALDESC:Stampe Professionali Fine-Art
BEGIN:VEVENT
DTSTART:
DTEND:
SUMMARY:Stampe Professionali Fine-Art
DESCRIPTION:STAMPE PROFESSIONALI FINE-ART
LOCATION:Via Latina, 515
END:VEVENT
END:VCALENDAR
