BEGIN:VCALENDAR
VERSION:2.0
PRODID:-//Associazione Graffiti
CALSCALE:GREGORIAN
METHOD:PUBLISH
X-WR-CALNAME:Associazione Graffiti
X-ORIGINAL-URL:https://graffitiscuola.it/event/matrimoni/
X-WR-CALDESC:Reportage di Cerimonia &#8211; Servizio Foto e Video
BEGIN:VEVENT
DTSTART:
DTEND:
SUMMARY:Reportage di Cerimonia &#8211; Servizio Foto e Video
DESCRIPTION:Reportage di Cerimonia - Servizio Foto e Video
LOCATION:Via Latina, 515
END:VEVENT
END:VCALENDAR
