BEGIN:VCALENDAR
VERSION:2.0
PRODID:-//Associazione Graffiti
CALSCALE:GREGORIAN
METHOD:PUBLISH
X-WR-CALNAME:Associazione Graffiti
X-ORIGINAL-URL:https://graffitiscuola.it/event/mostra-fotografica-neverending-rome-the-new-face-of-the-eternal-city-di-marco-casini-emiliano-pinnizzotto-2/
X-WR-CALDESC:Mostra Fotografica: “NEVERENDING ROME” di Marco Casini &#8211; Emiliano Pinnizzotto
BEGIN:VEVENT
DTSTART:20151113T000000
DTEND:20151126T000000
SUMMARY:Mostra Fotografica: “NEVERENDING ROME” di Marco Casini &#8211; Emiliano Pinnizzotto
DESCRIPTION:Mostra Fotografica: “NEVERENDING ROME” The new face of the eternal city 
di Marco Casini - Emiliano Pinnizzotto 
13 - 26 Novembre 2015
Libreria Odradek, Pomezia 
LOCATION:
END:VEVENT
END:VCALENDAR
