BEGIN:VCALENDAR
VERSION:2.0
PRODID:-//Associazione Graffiti
CALSCALE:GREGORIAN
METHOD:PUBLISH
X-WR-CALNAME:Associazione Graffiti
X-ORIGINAL-URL:https://graffitiscuola.it/event/mostra-fotografica-dissolvenze-paolo-sollazzo/
X-WR-CALDESC:Mostra Fotografica: “DISSOLVENZE” di Paolo Sollazzo
BEGIN:VEVENT
DTSTART:20151212T180000
DTEND:20151219T200000
SUMMARY:Mostra Fotografica: “DISSOLVENZE” di Paolo Sollazzo
DESCRIPTION:Mostra Fotografica: “DISSOLVENZE” di Paolo Sollazzo
12 - 19 Dicembre 2015
Galleria SMAC, Roma
LOCATION:Galleria SMAC
END:VEVENT
END:VCALENDAR
