BEGIN:VCALENDAR
VERSION:2.0
PRODID:-//Associazione Graffiti
CALSCALE:GREGORIAN
METHOD:PUBLISH
X-WR-CALNAME:Associazione Graffiti
X-ORIGINAL-URL:https://graffitiscuola.it/event/mostra-fotografica-peru-tan-lejos-tan-cerca-di-autori-vari-2/
X-WR-CALDESC:Mostra Fotografica: “PERÙ, TAN LEJOS &#8211; TAN CERCA” di Autori vari
BEGIN:VEVENT
DTSTART:20140621T000000
DTEND:20140831T000000
SUMMARY:Mostra Fotografica: “PERÙ, TAN LEJOS &#8211; TAN CERCA” di Autori vari
DESCRIPTION:Mostra Fotografica: “PERÙ, TAN LEJOS - TAN CERCA” di Autori vari
21 Giugno - 31 Agosto 2014
Museo Nazionale Preistorico Etnografico Luigi Pigorini, Roma
LOCATION:
END:VEVENT
END:VCALENDAR
