BEGIN:VCALENDAR
VERSION:2.0
PRODID:-//Associazione Graffiti
CALSCALE:GREGORIAN
METHOD:PUBLISH
X-WR-CALNAME:Associazione Graffiti
X-ORIGINAL-URL:https://graffitiscuola.it/event/mostra-fotografica-not-so-alone-di-emiliano-pinnizzotto-piazza-colonna-peru/
X-WR-CALDESC:Mostra Fotografica: “NOT SO ALONE” di Emiliano Pinnizzotto
BEGIN:VEVENT
DTSTART:
DTEND:
SUMMARY:Mostra Fotografica: “NOT SO ALONE” di Emiliano Pinnizzotto
DESCRIPTION:Mostra Fotografica: “NOT SO ALONE” di Emiliano Pinnizzotto 
24 Gennaio 2014
Libreria La Feltrinelli Colonna - Galleria Alberto Sordi, Roma
LOCATION:
END:VEVENT
END:VCALENDAR
