BEGIN:VCALENDAR
VERSION:2.0
PRODID:-//Associazione Graffiti
CALSCALE:GREGORIAN
METHOD:PUBLISH
X-WR-CALNAME:Associazione Graffiti
X-ORIGINAL-URL:https://graffitiscuola.it/event/mostra-fotografica-peru-tan-lejos-tan-cerca-di-autori-vari/
X-WR-CALDESC:Mostra Fotografica: “PERÙ, TAN LEJOS &#8211; TAN CERCA” di Autori vari &#8211; Lima, Perù
BEGIN:VEVENT
DTSTART:20150716T000000
DTEND:20150911T000000
SUMMARY:Mostra Fotografica: “PERÙ, TAN LEJOS &#8211; TAN CERCA” di Autori vari &#8211; Lima, Perù
DESCRIPTION:Mostra Fotografica: “PERÙ, TAN LEJOS - TAN CERCA” di Autori vari
16 Luglio - 11 Settembre 2015
Galleria Mario Sironi, Lima (Perù)
LOCATION:
END:VEVENT
END:VCALENDAR
